BEGIN:VCALENDAR
VERSION:2.0
PRODID:icalendar-ruby
CALSCALE:GREGORIAN
METHOD:PUBLISH
BEGIN:VEVENT
DTSTAMP:20260425T160738Z
UID:2-595951@acts2bclexington.org
DTSTART:20261011T150000Z
DTEND:20261011T160000Z
CLASS:PUBLIC
CREATED:20260425T094923
DESCRIPTION:Join us for Sunday Worship Service each week from 10am-11:30am.
LAST-MODIFIED:20260425T094923
LOCATION:
SUMMARY:Sunday Worship Service
URL;VALUE=URI:https://www.acts2bclexington.org/events/sunday-worship-servic
 e/2026-10-11
ATTACH;FILENAME=sundayservice-35.jpg;FMTTYPE=image/jpeg:https://dq5pwpg1q8r
 u0.cloudfront.net/2024/07/23/23/14/38/e2acab63-fb8f-44ad-8ff9-f29be50ea1ba
 /sundayservice-35.jpg
END:VEVENT
END:VCALENDAR
