BEGIN:VCALENDAR
VERSION:2.0
PRODID:icalendar-ruby
CALSCALE:GREGORIAN
METHOD:PUBLISH
BEGIN:VEVENT
DTSTAMP:20260423T071807Z
UID:2-588990@acts2bclexington.org
DTSTART:20260920T150000Z
DTEND:20260920T160000Z
CLASS:PUBLIC
CREATED:20260422T214915
DESCRIPTION:Join us for Sunday Worship Service each week from 10am-11:30am.
LAST-MODIFIED:20260422T214915
LOCATION:
SUMMARY:Sunday Worship Service
URL;VALUE=URI:https://www.acts2bclexington.org/events/sunday-worship-servic
 e/2026-09-20
ATTACH;FILENAME=sundayservice-35.jpg;FMTTYPE=image/jpeg:https://dq5pwpg1q8r
 u0.cloudfront.net/2024/07/23/23/14/38/e2acab63-fb8f-44ad-8ff9-f29be50ea1ba
 /sundayservice-35.jpg
END:VEVENT
END:VCALENDAR
