BEGIN:VCALENDAR
VERSION:2.0
PRODID:icalendar-ruby
CALSCALE:GREGORIAN
METHOD:PUBLISH
BEGIN:VEVENT
DTSTAMP:20260425T115103Z
UID:3-595100@acts2bclexington.org
DTSTART:20261101T144500Z
DTEND:20261101T151500Z
CLASS:PUBLIC
CREATED:20260424T212343
DESCRIPTION:Come join us for breakfast before Sunday School. We typically s
 erve doughnuts\, biscuits and gravy\, coffee\, and orange juice.
LAST-MODIFIED:20260424T212343
LOCATION:
SUMMARY:Sunday Morning Breakfast
URL;VALUE=URI:https://www.acts2bclexington.org/events/sunday-morning-breakf
 ast/2026-11-01
ATTACH;FILENAME=N184.jpg;FMTTYPE=image/jpeg:https://dq5pwpg1q8ru0.cloudfron
 t.net/2024/07/23/22/56/03/229081b9-e96b-41d8-b2a1-7c472a10510b/N184.jpg
END:VEVENT
END:VCALENDAR
