BEGIN:VCALENDAR
VERSION:2.0
PRODID:icalendar-ruby
CALSCALE:GREGORIAN
METHOD:PUBLISH
BEGIN:VEVENT
DTSTAMP:20260423T063129Z
UID:7-589368@acts2bclexington.org
DTSTART:20260920T230000Z
DTEND:20260921T000000Z
CLASS:PUBLIC
CREATED:20260422T214915
DESCRIPTION:Please come join us for Sunday evening bible study! We have stu
 dies for adults\, youth\, and kids.
LAST-MODIFIED:20260422T214915
LOCATION:
SUMMARY:Sunday Evening Bible Study
URL;VALUE=URI:https://www.acts2bclexington.org/events/sunday-evening-bible-
 study/2026-09-20
ATTACH;FILENAME=N00Z.jpg;FMTTYPE=image/jpeg:https://dq5pwpg1q8ru0.cloudfron
 t.net/2024/07/25/22/36/54/8aae1900-91f0-4426-89f3-7bfafc9fcdc8/N00Z.jpg
END:VEVENT
END:VCALENDAR
